BEGIN:VCALENDAR
VERSION:2.0
PRODID:North County Fire EMS, WA Calendar Creator
METHOD:PUBLISH
BEGIN:VEVENT
DTSTAMP:20260417T153812
DTSTART:20260422T160000
DTEND:20260422T180000
SUMMARY:Commissioners Meeting - in Arlington
DESCRIPTION:
X-ALT-DESC;FMTTYPE=text/html:
LOCATION:Arlington City Hall - Council Chambers\, 238 N Olympic Arlington\, Washington 98223
CLASS:PUBLIC
END:VEVENT
END:VCALENDAR
